Package: sangeranalyseR Version: 1.4.0 Command: /Library/Frameworks/R.framework/Resources/bin/R CMD build --keep-empty-dirs --no-resave-data sangeranalyseR StartedAt: 2022-04-12 08:36:44 -0400 (Tue, 12 Apr 2022) EndedAt: 2022-04-12 08:38:09 -0400 (Tue, 12 Apr 2022) EllapsedTime: 84.4 seconds RetCode: 0 Status: OK PackageFile: sangeranalyseR_1.4.0.tar.gz PackageFileSize: 41.7 MiB