Package: rrvgo Version: 1.6.0 Command: /Library/Frameworks/R.framework/Resources/bin/R CMD build --keep-empty-dirs --no-resave-data rrvgo StartedAt: 2022-04-12 08:32:50 -0400 (Tue, 12 Apr 2022) EndedAt: 2022-04-12 08:36:13 -0400 (Tue, 12 Apr 2022) EllapsedTime: 202.3 seconds RetCode: 0 Status: OK PackageFile: rrvgo_1.6.0.tar.gz PackageFileSize: 1.729 MiB