Package: rpx Version: 2.2.2 Command: /home/biocbuild/bbs-3.14-bioc/R/bin/R CMD INSTALL rpx StartedAt: 2022-04-12 03:15:54 -0400 (Tue, 12 Apr 2022) EndedAt: 2022-04-12 03:16:08 -0400 (Tue, 12 Apr 2022) EllapsedTime: 13.9 seconds RetCode: 0 Status: OK