Package: regsplice Version: 1.20.0 Command: rm -rf regsplice.buildbin-libdir && mkdir regsplice.buildbin-libdir && /Users/biocbuild/BBS/utils/build-universal.sh regsplice_1.20.0.tar.gz /Library/Frameworks/R.framework/Resources/bin/R regsplice.buildbin-libdir StartedAt: 2022-04-12 21:19:44 -0400 (Tue, 12 Apr 2022) EndedAt: 2022-04-12 21:20:20 -0400 (Tue, 12 Apr 2022) EllapsedTime: 36.1 seconds RetCode: 0 Status: OK PackageFile: regsplice_1.20.0.tgz PackageFileSize: 446.7 KiB