Package: rebook Version: 1.4.0 Command: /home/biocbuild/bbs-3.14-bioc/R/bin/R CMD build --keep-empty-dirs --no-resave-data rebook StartedAt: 2022-04-12 05:38:47 -0400 (Tue, 12 Apr 2022) EndedAt: 2022-04-12 05:39:12 -0400 (Tue, 12 Apr 2022) EllapsedTime: 24.9 seconds RetCode: 0 Status: OK PackageFile: rebook_1.4.0.tar.gz PackageFileSize: 262.6 KiB