Package: rTRM Version: 1.32.0 Command: /Library/Frameworks/R.framework/Resources/bin/R CMD check --install=check:rTRM.install-out.txt --library=/Library/Frameworks/R.framework/Resources/library --no-vignettes --timings rTRM_1.32.0.tar.gz StartedAt: 2022-04-12 17:57:39 -0400 (Tue, 12 Apr 2022) EndedAt: 2022-04-12 18:00:33 -0400 (Tue, 12 Apr 2022) EllapsedTime: 174.5 seconds RetCode: 0 Status: OK CheckDir: rTRM.Rcheck Warnings: 0