Package: rGADEM Version: 2.42.0 Command: /home/biocbuild/bbs-3.14-bioc/R/bin/R CMD build --keep-empty-dirs --no-resave-data rGADEM StartedAt: 2022-04-12 05:40:23 -0400 (Tue, 12 Apr 2022) EndedAt: 2022-04-12 05:41:43 -0400 (Tue, 12 Apr 2022) EllapsedTime: 80.6 seconds RetCode: 0 Status: OK PackageFile: rGADEM_2.42.0.tar.gz PackageFileSize: 256 KiB