Package: qcmetrics Version: 1.32.0 Command: rm -rf qcmetrics.buildbin-libdir && mkdir qcmetrics.buildbin-libdir && C:\Users\biocbuild\bbs-3.14-bioc\R\bin\R.exe CMD INSTALL --merge-multiarch --build --library=qcmetrics.buildbin-libdir qcmetrics_1.32.0.tar.gz StartedAt: 2022-04-13 06:53:00 -0400 (Wed, 13 Apr 2022) EndedAt: 2022-04-13 06:53:19 -0400 (Wed, 13 Apr 2022) EllapsedTime: 18.9 seconds RetCode: 0 Status: OK PackageFile: qcmetrics_1.32.0.zip PackageFileSize: 4.081 MiB