Package: psygenet2r Version: 1.26.0 Command: /Library/Frameworks/R.framework/Resources/bin/R CMD build --keep-empty-dirs --no-resave-data psygenet2r StartedAt: 2022-04-12 08:07:39 -0400 (Tue, 12 Apr 2022) EndedAt: 2022-04-12 08:16:10 -0400 (Tue, 12 Apr 2022) EllapsedTime: 510.8 seconds RetCode: 0 Status: OK PackageFile: psygenet2r_1.26.0.tar.gz PackageFileSize: 3.061 MiB