Package: pram Version: 1.10.0 Command: /home/biocbuild/bbs-3.14-bioc/R/bin/R CMD check --install=check:pram.install-out.txt --library=/home/biocbuild/bbs-3.14-bioc/R/library --no-vignettes --timings pram_1.10.0.tar.gz StartedAt: 2022-04-12 08:47:06 -0400 (Tue, 12 Apr 2022) EndedAt: 2022-04-12 08:50:07 -0400 (Tue, 12 Apr 2022) EllapsedTime: 181.6 seconds RetCode: 0 Status: OK CheckDir: pram.Rcheck Warnings: 0