Package: plgem Version: 1.66.0 Command: /Library/Frameworks/R.framework/Resources/bin/R CMD check --install=check:plgem.install-out.txt --library=/Library/Frameworks/R.framework/Resources/library --no-vignettes --timings plgem_1.66.0.tar.gz StartedAt: 2022-04-12 16:48:50 -0400 (Tue, 12 Apr 2022) EndedAt: 2022-04-12 16:50:00 -0400 (Tue, 12 Apr 2022) EllapsedTime: 70.9 seconds RetCode: 0 Status: OK CheckDir: plgem.Rcheck Warnings: 0