Package: pipeComp Version: 1.4.0 Command: rm -rf pipeComp.buildbin-libdir && mkdir pipeComp.buildbin-libdir && /Users/biocbuild/BBS/utils/build-universal.sh pipeComp_1.4.0.tar.gz /Library/Frameworks/R.framework/Resources/bin/R pipeComp.buildbin-libdir StartedAt: 2022-04-12 21:13:32 -0400 (Tue, 12 Apr 2022) EndedAt: 2022-04-12 21:15:03 -0400 (Tue, 12 Apr 2022) EllapsedTime: 91.2 seconds RetCode: 0 Status: OK PackageFile: pipeComp_1.4.0.tgz PackageFileSize: 3.953 MiB