Package: pathwayPCA Version: 1.10.0 Command: rm -rf pathwayPCA.buildbin-libdir && mkdir pathwayPCA.buildbin-libdir && C:\Users\biocbuild\bbs-3.14-bioc\R\bin\R.exe CMD INSTALL --merge-multiarch --build --library=pathwayPCA.buildbin-libdir pathwayPCA_1.10.0.tar.gz StartedAt: 2022-04-13 06:47:09 -0400 (Wed, 13 Apr 2022) EndedAt: 2022-04-13 06:47:38 -0400 (Wed, 13 Apr 2022) EllapsedTime: 29.0 seconds RetCode: 0 Status: OK PackageFile: pathwayPCA_1.10.0.zip PackageFileSize: 2.953 MiB