Package: pathRender Version: 1.62.0 Command: C:\Users\biocbuild\bbs-3.14-bioc\R\bin\R.exe CMD check --force-multiarch --install=check:pathRender.install-out.txt --library=C:\Users\biocbuild\bbs-3.14-bioc\R\library --no-vignettes --timings pathRender_1.62.0.tar.gz StartedAt: 2022-04-13 00:17:42 -0400 (Wed, 13 Apr 2022) EndedAt: 2022-04-13 00:20:28 -0400 (Wed, 13 Apr 2022) EllapsedTime: 165.4 seconds RetCode: 0 Status: OK CheckDir: pathRender.Rcheck Warnings: 0