Package: pathRender Version: 1.62.0 Command: /Library/Frameworks/R.framework/Resources/bin/R CMD build --keep-empty-dirs --no-resave-data pathRender StartedAt: 2022-04-12 07:45:27 -0400 (Tue, 12 Apr 2022) EndedAt: 2022-04-12 07:47:28 -0400 (Tue, 12 Apr 2022) EllapsedTime: 121.3 seconds RetCode: 0 Status: OK PackageFile: pathRender_1.62.0.tar.gz PackageFileSize: 197.9 KiB