Package: pathRender Version: 1.62.0 Command: rm -rf pathRender.buildbin-libdir && mkdir pathRender.buildbin-libdir && /Users/biocbuild/BBS/utils/build-universal.sh pathRender_1.62.0.tar.gz /Library/Frameworks/R.framework/Resources/bin/R pathRender.buildbin-libdir StartedAt: 2022-04-12 21:12:01 -0400 (Tue, 12 Apr 2022) EndedAt: 2022-04-12 21:12:29 -0400 (Tue, 12 Apr 2022) EllapsedTime: 28.5 seconds RetCode: 0 Status: OK PackageFile: pathRender_1.62.0.tgz PackageFileSize: 251 KiB