Package: panelcn.mops Version: 1.16.0 Command: /home/biocbuild/bbs-3.14-bioc/R/bin/R CMD check --install=check:panelcn.mops.install-out.txt --library=/home/biocbuild/bbs-3.14-bioc/R/library --no-vignettes --timings panelcn.mops_1.16.0.tar.gz StartedAt: 2022-04-12 08:36:40 -0400 (Tue, 12 Apr 2022) EndedAt: 2022-04-12 08:40:21 -0400 (Tue, 12 Apr 2022) EllapsedTime: 221.5 seconds RetCode: 0 Status: OK CheckDir: panelcn.mops.Rcheck Warnings: 0