Package: openCyto Version: 2.6.0 Command: /Library/Frameworks/R.framework/Resources/bin/R CMD check --install=check:openCyto.install-out.txt --library=/Library/Frameworks/R.framework/Resources/library --no-vignettes --timings openCyto_2.6.0.tar.gz StartedAt: 2022-04-12 16:21:02 -0400 (Tue, 12 Apr 2022) EndedAt: 2022-04-12 16:26:06 -0400 (Tue, 12 Apr 2022) EllapsedTime: 304.7 seconds RetCode: 0 Status: OK CheckDir: openCyto.Rcheck Warnings: 0