Package: nondetects Version: 2.24.0 Command: /home/biocbuild/bbs-3.14-bioc/R/bin/R CMD build --keep-empty-dirs --no-resave-data nondetects StartedAt: 2022-04-12 05:10:04 -0400 (Tue, 12 Apr 2022) EndedAt: 2022-04-12 05:14:51 -0400 (Tue, 12 Apr 2022) EllapsedTime: 286.3 seconds RetCode: 0 Status: OK PackageFile: nondetects_2.24.0.tar.gz PackageFileSize: 120.9 KiB