Package: netboost Version: 2.2.0 Command: /home/biocbuild/bbs-3.14-bioc/R/bin/R CMD build --keep-empty-dirs --no-resave-data netboost StartedAt: 2022-04-12 05:09:00 -0400 (Tue, 12 Apr 2022) EndedAt: 2022-04-12 05:10:04 -0400 (Tue, 12 Apr 2022) EllapsedTime: 63.5 seconds RetCode: 0 Status: OK PackageFile: netboost_2.2.0.tar.gz PackageFileSize: 1.074 MiB