git_url: https://git.bioconductor.org/packages/netOmics git_branch: RELEASE_3_14 git_last_commit: 00eaf6b git_last_commit_date: 2021-10-26 13:13:58 -0400 (Tue, 26 Oct 2021) Package: netOmics Version: 1.0.0 Maintainer: Antoine Bodein MaintainerEmail: antoine.bodein.1 at ulaval.ca