Package: ndexr Version: 1.16.0 Command: C:\cygwin\bin\curl.exe -O http://155.52.207.166/BBS/3.14/bioc/src/contrib/ndexr_1.16.0.tar.gz && rm -rf ndexr.buildbin-libdir && mkdir ndexr.buildbin-libdir && C:\Users\biocbuild\bbs-3.14-bioc\R\bin\R.exe CMD INSTALL --merge-multiarch --build --library=ndexr.buildbin-libdir ndexr_1.16.0.tar.gz && C:\Users\biocbuild\bbs-3.14-bioc\R\bin\R.exe CMD INSTALL ndexr_1.16.0.zip && rm ndexr_1.16.0.tar.gz ndexr_1.16.0.zip StartedAt: 2022-04-12 07:03:45 -0400 (Tue, 12 Apr 2022) EndedAt: 2022-04-12 07:04:26 -0400 (Tue, 12 Apr 2022) EllapsedTime: 41.4 seconds RetCode: 0 Status: OK