Package: musicatk Version: 1.4.0 Command: rm -rf musicatk.buildbin-libdir && mkdir musicatk.buildbin-libdir && /Users/biocbuild/BBS/utils/build-universal.sh musicatk_1.4.0.tar.gz /Library/Frameworks/R.framework/Resources/bin/R musicatk.buildbin-libdir StartedAt: 2022-04-12 21:06:52 -0400 (Tue, 12 Apr 2022) EndedAt: 2022-04-12 21:08:14 -0400 (Tue, 12 Apr 2022) EllapsedTime: 81.4 seconds RetCode: 0 Status: OK PackageFile: musicatk_1.4.0.tgz PackageFileSize: 3.62 MiB