Package: multiOmicsViz Version: 1.18.0 Command: /home/biocbuild/bbs-3.14-bioc/R/bin/R CMD build --keep-empty-dirs --no-resave-data multiOmicsViz StartedAt: 2022-04-12 05:07:23 -0400 (Tue, 12 Apr 2022) EndedAt: 2022-04-12 05:08:08 -0400 (Tue, 12 Apr 2022) EllapsedTime: 44.8 seconds RetCode: 0 Status: OK PackageFile: multiOmicsViz_1.18.0.tar.gz PackageFileSize: 2.887 MiB