Package: mixOmics Version: 6.18.1 Command: /Library/Frameworks/R.framework/Resources/bin/R CMD check --install=check:mixOmics.install-out.txt --library=/Library/Frameworks/R.framework/Resources/library --no-vignettes --timings mixOmics_6.18.1.tar.gz StartedAt: 2022-04-12 15:37:59 -0400 (Tue, 12 Apr 2022) EndedAt: 2022-04-12 15:44:55 -0400 (Tue, 12 Apr 2022) EllapsedTime: 416.3 seconds RetCode: 0 Status: OK CheckDir: mixOmics.Rcheck Warnings: 0