Package: mixOmics Version: 6.18.1 Command: /Library/Frameworks/R.framework/Resources/bin/R CMD build --keep-empty-dirs --no-resave-data mixOmics StartedAt: 2022-04-12 07:12:15 -0400 (Tue, 12 Apr 2022) EndedAt: 2022-04-12 07:21:47 -0400 (Tue, 12 Apr 2022) EllapsedTime: 571.9 seconds RetCode: 0 Status: OK PackageFile: mixOmics_6.18.1.tar.gz PackageFileSize: 8.953 MiB