Package: missRows Version: 1.14.0 Command: /Library/Frameworks/R.framework/Resources/bin/R CMD build --keep-empty-dirs --no-resave-data missRows StartedAt: 2022-04-12 07:12:02 -0400 (Tue, 12 Apr 2022) EndedAt: 2022-04-12 07:14:59 -0400 (Tue, 12 Apr 2022) EllapsedTime: 176.6 seconds RetCode: 0 Status: OK PackageFile: missRows_1.14.0.tar.gz PackageFileSize: 656.9 KiB