Package: miRNAtap Version: 1.28.0 Command: /Library/Frameworks/R.framework/Resources/bin/R CMD check --install=check:miRNAtap.install-out.txt --library=/Library/Frameworks/R.framework/Resources/library --no-vignettes --timings miRNAtap_1.28.0.tar.gz StartedAt: 2022-04-12 15:35:17 -0400 (Tue, 12 Apr 2022) EndedAt: 2022-04-12 15:38:13 -0400 (Tue, 12 Apr 2022) EllapsedTime: 175.3 seconds RetCode: 0 Status: OK CheckDir: miRNAtap.Rcheck Warnings: 0