Package: metahdep Version: 1.52.0 Command: chmod a+r metahdep -R && C:\Users\biocbuild\bbs-3.14-bioc\R\bin\R.exe CMD build --keep-empty-dirs --no-resave-data metahdep StartedAt: 2022-04-12 11:53:19 -0400 (Tue, 12 Apr 2022) EndedAt: 2022-04-12 11:53:33 -0400 (Tue, 12 Apr 2022) EllapsedTime: 14.0 seconds RetCode: 0 Status: OK PackageFile: metahdep_1.52.0.tar.gz PackageFileSize: 439.9 KiB