Package: metabCombiner Version: 1.4.0 Command: rm -rf metabCombiner.buildbin-libdir && mkdir metabCombiner.buildbin-libdir && C:\Users\biocbuild\bbs-3.14-bioc\R\bin\R.exe CMD INSTALL --merge-multiarch --build --library=metabCombiner.buildbin-libdir metabCombiner_1.4.0.tar.gz StartedAt: 2022-04-13 06:32:46 -0400 (Wed, 13 Apr 2022) EndedAt: 2022-04-13 06:34:17 -0400 (Wed, 13 Apr 2022) EllapsedTime: 91.0 seconds RetCode: 0 Status: OK PackageFile: metabCombiner_1.4.0.zip PackageFileSize: 2.916 MiB