Package: meshr Version: 2.0.2 Command: /Library/Frameworks/R.framework/Resources/bin/R CMD INSTALL meshr StartedAt: 2022-04-12 03:49:18 -0400 (Tue, 12 Apr 2022) EndedAt: 2022-04-12 03:49:55 -0400 (Tue, 12 Apr 2022) EllapsedTime: 36.6 seconds RetCode: 0 Status: OK