Package: mdp Version: 1.14.0 Command: /Library/Frameworks/R.framework/Resources/bin/R CMD INSTALL mdp StartedAt: 2022-04-12 03:27:02 -0400 (Tue, 12 Apr 2022) EndedAt: 2022-04-12 03:27:08 -0400 (Tue, 12 Apr 2022) EllapsedTime: 5.7 seconds RetCode: 0 Status: OK