Package: matchBox Version: 1.36.0 Command: /Library/Frameworks/R.framework/Resources/bin/R CMD build --keep-empty-dirs --no-resave-data matchBox StartedAt: 2022-04-12 06:55:01 -0400 (Tue, 12 Apr 2022) EndedAt: 2022-04-12 06:55:16 -0400 (Tue, 12 Apr 2022) EllapsedTime: 15.3 seconds RetCode: 0 Status: OK PackageFile: matchBox_1.36.0.tar.gz PackageFileSize: 642 KiB