Package: macat Version: 1.68.0 Command: chmod a+r macat -R && C:\Users\biocbuild\bbs-3.14-bioc\R\bin\R.exe CMD build --keep-empty-dirs --no-resave-data macat StartedAt: 2022-04-12 11:41:39 -0400 (Tue, 12 Apr 2022) EndedAt: 2022-04-12 11:42:24 -0400 (Tue, 12 Apr 2022) EllapsedTime: 44.7 seconds RetCode: 0 Status: OK PackageFile: macat_1.68.0.tar.gz PackageFileSize: 1.013 MiB