Package: macat Version: 1.68.0 Command: /home/biocbuild/bbs-3.14-bioc/R/bin/R CMD build --keep-empty-dirs --no-resave-data macat StartedAt: 2022-04-12 04:54:00 -0400 (Tue, 12 Apr 2022) EndedAt: 2022-04-12 04:54:20 -0400 (Tue, 12 Apr 2022) EllapsedTime: 19.9 seconds RetCode: 0 Status: OK PackageFile: macat_1.68.0.tar.gz PackageFileSize: 1022 KiB