Package: logicFS Version: 2.14.0 Command: /Library/Frameworks/R.framework/Resources/bin/R CMD INSTALL logicFS StartedAt: 2022-04-12 03:15:44 -0400 (Tue, 12 Apr 2022) EndedAt: 2022-04-12 03:16:09 -0400 (Tue, 12 Apr 2022) EllapsedTime: 25.2 seconds RetCode: 0 Status: OK