Package: logicFS Version: 2.14.0 Command: /Library/Frameworks/R.framework/Resources/bin/R CMD build --keep-empty-dirs --no-resave-data logicFS StartedAt: 2022-04-12 06:50:27 -0400 (Tue, 12 Apr 2022) EndedAt: 2022-04-12 06:50:54 -0400 (Tue, 12 Apr 2022) EllapsedTime: 27.3 seconds RetCode: 0 Status: OK PackageFile: logicFS_2.14.0.tar.gz PackageFileSize: 193.5 KiB