Package: logicFS Version: 2.14.0 Command: rm -rf logicFS.buildbin-libdir && mkdir logicFS.buildbin-libdir && /Users/biocbuild/BBS/utils/build-universal.sh logicFS_2.14.0.tar.gz /Library/Frameworks/R.framework/Resources/bin/R logicFS.buildbin-libdir StartedAt: 2022-04-12 20:57:02 -0400 (Tue, 12 Apr 2022) EndedAt: 2022-04-12 20:57:20 -0400 (Tue, 12 Apr 2022) EllapsedTime: 18.1 seconds RetCode: 0 Status: OK PackageFile: logicFS_2.14.0.tgz PackageFileSize: 547.1 KiB