Package: lipidr Version: 2.8.1 Command: C:\Users\biocbuild\bbs-3.14-bioc\R\bin\R.exe CMD check --force-multiarch --install=check:lipidr.install-out.txt --library=C:\Users\biocbuild\bbs-3.14-bioc\R\library --no-vignettes --timings lipidr_2.8.1.tar.gz StartedAt: 2022-04-12 22:01:33 -0400 (Tue, 12 Apr 2022) EndedAt: 2022-04-12 22:12:04 -0400 (Tue, 12 Apr 2022) EllapsedTime: 631.3 seconds RetCode: 0 Status: OK CheckDir: lipidr.Rcheck Warnings: 0