Package: lapmix Version: 1.60.0 Command: rm -rf lapmix.buildbin-libdir && mkdir lapmix.buildbin-libdir && /Users/biocbuild/BBS/utils/build-universal.sh lapmix_1.60.0.tar.gz /Library/Frameworks/R.framework/Resources/bin/R lapmix.buildbin-libdir StartedAt: 2022-04-12 20:56:15 -0400 (Tue, 12 Apr 2022) EndedAt: 2022-04-12 20:56:21 -0400 (Tue, 12 Apr 2022) EllapsedTime: 6.3 seconds RetCode: 0 Status: OK PackageFile: lapmix_1.60.0.tgz PackageFileSize: 312.8 KiB