Package: isomiRs Version: 1.22.1 Command: rm -rf isomiRs.buildbin-libdir && mkdir isomiRs.buildbin-libdir && /Users/biocbuild/BBS/utils/build-universal.sh isomiRs_1.22.1.tar.gz /Library/Frameworks/R.framework/Resources/bin/R isomiRs.buildbin-libdir StartedAt: 2022-04-12 20:55:22 -0400 (Tue, 12 Apr 2022) EndedAt: 2022-04-12 20:56:45 -0400 (Tue, 12 Apr 2022) EllapsedTime: 82.8 seconds RetCode: 0 Status: OK PackageFile: isomiRs_1.22.1.tgz PackageFileSize: 2.244 MiB