Package: ideal Version: 1.18.1 Command: /home/biocbuild/bbs-3.14-bioc/R/bin/R CMD build --keep-empty-dirs --no-resave-data ideal StartedAt: 2022-04-12 04:47:52 -0400 (Tue, 12 Apr 2022) EndedAt: 2022-04-12 04:50:28 -0400 (Tue, 12 Apr 2022) EllapsedTime: 155.7 seconds RetCode: 0 Status: OK PackageFile: ideal_1.18.1.tar.gz PackageFileSize: 4.123 MiB