Package: icetea Version: 1.12.0 Command: /home/biocbuild/bbs-3.14-bioc/R/bin/R CMD INSTALL icetea StartedAt: 2022-04-12 03:40:36 -0400 (Tue, 12 Apr 2022) EndedAt: 2022-04-12 03:41:19 -0400 (Tue, 12 Apr 2022) EllapsedTime: 43.3 seconds RetCode: 0 Status: OK