git_url: https://git.bioconductor.org/packages/iPAC git_branch: RELEASE_3_14 git_last_commit: e34e9ed git_last_commit_date: 2021-10-26 12:03:56 -0400 (Tue, 26 Oct 2021) Package: iPAC Version: 1.38.0 Maintainer: Gregory Ryslik MaintainerEmail: gregory.ryslik at yale.edu