Package: gsean Version: 1.14.0 Command: /home/biocbuild/bbs-3.14-bioc/R/bin/R CMD build --keep-empty-dirs --no-resave-data gsean StartedAt: 2022-04-12 04:42:59 -0400 (Tue, 12 Apr 2022) EndedAt: 2022-04-12 04:43:55 -0400 (Tue, 12 Apr 2022) EllapsedTime: 55.4 seconds RetCode: 0 Status: OK PackageFile: gsean_1.14.0.tar.gz PackageFileSize: 1.511 MiB