Package: glmGamPoi Version: 1.6.0 Command: /Library/Frameworks/R.framework/Resources/bin/R CMD build --keep-empty-dirs --no-resave-data glmGamPoi StartedAt: 2022-04-12 06:19:25 -0400 (Tue, 12 Apr 2022) EndedAt: 2022-04-12 06:33:27 -0400 (Tue, 12 Apr 2022) EllapsedTime: 842.0 seconds RetCode: 0 Status: OK PackageFile: glmGamPoi_1.6.0.tar.gz PackageFileSize: 891.3 KiB