Package: ggbio Version: 1.42.0 Command: rm -rf ggbio.buildbin-libdir && mkdir ggbio.buildbin-libdir && /Users/biocbuild/BBS/utils/build-universal.sh ggbio_1.42.0.tar.gz /Library/Frameworks/R.framework/Resources/bin/R ggbio.buildbin-libdir StartedAt: 2022-04-12 20:48:17 -0400 (Tue, 12 Apr 2022) EndedAt: 2022-04-12 20:49:59 -0400 (Tue, 12 Apr 2022) EllapsedTime: 101.9 seconds RetCode: 0 Status: OK PackageFile: ggbio_1.42.0.tgz PackageFileSize: 3.255 MiB