Package: genoCN Version: 1.46.0 Command: rm -rf genoCN.buildbin-libdir && mkdir genoCN.buildbin-libdir && C:\Users\biocbuild\bbs-3.14-bioc\R\bin\R.exe CMD INSTALL --merge-multiarch --build --library=genoCN.buildbin-libdir genoCN_1.46.0.tar.gz StartedAt: 2022-04-13 06:18:14 -0400 (Wed, 13 Apr 2022) EndedAt: 2022-04-13 06:18:42 -0400 (Wed, 13 Apr 2022) EllapsedTime: 27.7 seconds RetCode: 0 Status: OK PackageFile: genoCN_1.46.0.zip PackageFileSize: 994.7 KiB