Package: gcapc Version: 1.18.0 Command: /Library/Frameworks/R.framework/Resources/bin/R CMD build --keep-empty-dirs --no-resave-data gcapc StartedAt: 2022-04-12 06:09:09 -0400 (Tue, 12 Apr 2022) EndedAt: 2022-04-12 06:14:54 -0400 (Tue, 12 Apr 2022) EllapsedTime: 344.5 seconds RetCode: 0 Status: OK PackageFile: gcapc_1.18.0.tar.gz PackageFileSize: 3.76 MiB