Package: frma Version: 1.46.0 Command: rm -rf frma.buildbin-libdir && mkdir frma.buildbin-libdir && C:\Users\biocbuild\bbs-3.14-bioc\R\bin\R.exe CMD INSTALL --merge-multiarch --build --library=frma.buildbin-libdir frma_1.46.0.tar.gz StartedAt: 2022-04-13 06:15:22 -0400 (Wed, 13 Apr 2022) EndedAt: 2022-04-13 06:16:09 -0400 (Wed, 13 Apr 2022) EllapsedTime: 47.1 seconds RetCode: 0 Status: OK PackageFile: frma_1.46.0.zip PackageFileSize: 615.2 KiB